BEGIN:VCALENDAR
VERSION:2.0
PRODID:-//Casius - Event &amp; Konzert GmbH - ECPv5.5.0.1//NONSGML v1.0//EN
CALSCALE:GREGORIAN
METHOD:PUBLISH
X-WR-CALNAME:Casius - Event &amp; Konzert GmbH
X-ORIGINAL-URL:https://casius-events.com
X-WR-CALDESC:Veranstaltungen für Casius - Event &amp; Konzert GmbH
BEGIN:VTIMEZONE
TZID:Europe/Berlin
BEGIN:DAYLIGHT
TZOFFSETFROM:+0100
TZOFFSETTO:+0200
TZNAME:CEST
DTSTART:20260329T010000
END:DAYLIGHT
BEGIN:STANDARD
TZOFFSETFROM:+0200
TZOFFSETTO:+0100
TZNAME:CET
DTSTART:20261025T010000
END:STANDARD
END:VTIMEZONE
BEGIN:VEVENT
DTSTART;TZID=Europe/Berlin:20261127T190000
DTEND;TZID=Europe/Berlin:20261127T230000
DTSTAMP:20260425T163209
CREATED:20251208T220038Z
LAST-MODIFIED:20260219T165317Z
UID:3479-1795806000-1795820400@casius-events.com
SUMMARY:RATHMANN
DESCRIPTION:Rathmann\n						27.11.2026 @Privatclub Berlin\n						\n						TicketsFacebook\n					\n				\n					\n				\n				\n				\n			\n				\n				\n			 \n				\n				\n				\n				\n					\n				\n				\n				\n				\n				\n				\n			\n			 \n				\n				\n				\n				\n				\n				\n				\n				\n				\n				Die Goldenen Zwanziger\n			 \n				\n				\n				Rathmann sind Magnus Ernst (Gesang)\, Moritz Weishaupt (Bass) und Arne Wolff (Drums). Große Tanzbarkeit und detailverliebte Arrangements sind die beiden Grundpfeiler ihrer Musik. Daher sind Vergleiche zu Element of Crime oder Udo Lindenberg naheliegend\, auch Wanda oder Faber werden schnell in die Waagschale geworfen.\nWas sie mit Rathmann gemeinsam haben? Traurige und tragische Texte\, die dennoch humorvoll und intelligent sind und ein singulärer Sound\, der so in der deutschen Indieszene nirgends zu finden ist. Rathmann machen eindeutig deutschen Indie-Pop aber ohne dabei die immer gleichen 80s Referenzen\nzu zitieren. Stattdessen sind sie trocken und direkt\, mal mit Akustikgitarre\, mal mit orchestralem Posauneneinsatz - aber stets mit groovenden und eindringlich auffordernden Drums. So oder so pendelt der Sound voller Emotionen zwischen Intimität und ganz großem Kino. \n\n			 \n			 \n				\n				\n			 \n				\n				\n				\n				\n				\n				\n				Informationen zur Veranstaltung \n			 \n				\n				\n				Location: Privatclub\n			 \n				\n				\n				Datum: Freitag\, 27.11.2026\n			 \n				\n				\n				Einlass: 19 Uhr\n			 \n				\n				\n				Beginn: 20 Uhr\n			 \n				\n				\n				Preis: 17\,00 EUR zzgl. Gebühren\n			 \n			 \n				\n				\n				\n				\n				\n				\n\n\nInformationen zum Veranstalter \n\n\n\n			 \n				\n				\n				Casius Event & Konzert GmbH\n			 \n				\n				\n				Telefon: +49 341 92611770\n			 \n				\n				\n				E-Mail: info@casius-events.com\n			 \n				\n				\n				Webseite: http://www.casius-events.com/\n			 \n			 \n				\n				\n			 \n				\n				\n				\n				\n				Tickets\n			\n				Facebook\n			\n			 \n				\n				\n			 \n			 \n				 \n				\n			 \n				\n				\n				\n				\n					\n				\n				\n				\n				\n				\n				\n				Es gelten folgende Altersbeschränkungen:\n\nUnter 18 Jahre: Zutritt ohne Begleitperson - nach Vorlage eines Lichtbildausweises (Personalausweis oder Krankenkarte).\nUnter 16 Jahre: Zutritt NUR in Begleitung eines Sorgeberechtigten oder einer – vom Sorgeberechtigten beauftragten – volljährigen Person. Hierfür muss vom Sorgeberechtigten ein Erziehungsauftrag vollständig ausgefüllt und unterzeichnet werden. Auf dem Formular muss zudem auch der vollständige Name und das Geburtsdatum der sorgeberechtigten Person ersichtlich sein. Das Formular findest du hier zum Download. Bitte beachte\, dass sowohl der zu Beaufsichtigende als auch die erziehungsbeauftragte Person einen Lichtbildausweis (Personalausweis oder Krankenkarte) vorlegen müssen. Schülerausweise haben hier keine Gültigkeit. Das ausgefüllte Formular bitte bereits vor dem Einlass herausholen und auf Nachfrage vorzeigen.\n			 \n				Erziehungsbeauftragung
URL:https://casius-events.com/event/rathmann-2/
LOCATION:Privatclub Berlin\, Skalitzer Straße 85-86\, Berlin\, Berlin\, 10997\, Deutschland
CATEGORIES:Konzert
ATTACH;FMTTYPE=image/jpeg:https://casius-events.com/wp-content/uploads/2025/11/rathmann_leipzig_naumanns_2026_casius-events_casius.jpg
ORGANIZER;CN="Casius%20Event%20%26%20Konzert%20GmbH":MAILTO:info@casius-events.com
END:VEVENT
END:VCALENDAR