BEGIN:VCALENDAR
VERSION:2.0
PRODID:-//Casius - Event &amp; Konzert GmbH - ECPv5.5.0.1//NONSGML v1.0//EN
CALSCALE:GREGORIAN
METHOD:PUBLISH
X-WR-CALNAME:Casius - Event &amp; Konzert GmbH
X-ORIGINAL-URL:https://casius-events.com
X-WR-CALDESC:Veranstaltungen für Casius - Event &amp; Konzert GmbH
BEGIN:VTIMEZONE
TZID:Europe/Berlin
BEGIN:DAYLIGHT
TZOFFSETFROM:+0100
TZOFFSETTO:+0200
TZNAME:CEST
DTSTART:20260329T010000
END:DAYLIGHT
BEGIN:STANDARD
TZOFFSETFROM:+0200
TZOFFSETTO:+0100
TZNAME:CET
DTSTART:20261025T010000
END:STANDARD
END:VTIMEZONE
BEGIN:VEVENT
DTSTART;TZID=Europe/Berlin:20261208T200000
DTEND;TZID=Europe/Berlin:20261208T230000
DTSTAMP:20260424T161032
CREATED:20251201T090044Z
LAST-MODIFIED:20251130T105026Z
UID:3470-1796760000-1796770800@casius-events.com
SUMMARY:Mighty Oaks
DESCRIPTION:Mighty Oaks\n						Mighty Oaks - 08.12.2026 - Leipzig - Täubchenthal\n						\n						TicketsFacebook\n					\n				\n					\n				\n				\n				\n			\n				\n				\n			 \n				\n				\n				\n				\n					\n				\n				\n				\n				\n				\n				\n			\n			 \n				\n				\n				\n				\n				\n				\n				\n				\n				\n				Tour 2026\n			 \n				\n				\n				Mighty Oaks gehen 2026 auf Tour und spielen dabei insgesamt 21 Shows in Deutschland\, Österreich\, Schweiz und Tschechien \nNach zwei Jahren mit intimen Akustikshows kehren Mighty Oaks 2026 mit voller Band und voller Energie zurück auf die Bühne. Die Crew ist wieder vereint\, und mit ihr kommt auch der große\, dynamische Sound zurück\, der ihre Live-Auftritte seit fast 15 Jahren so besonders macht. In den letzten Jahren haben sie alles auf das Wesentliche reduziert\, doch jetzt ist der Zeitpunkt gekommen\, ein neues Kapitel aufzuschlagen: mit einem brandneuen Album\, dessen Songs speziell für die Bühne geschrieben wurden. Denn Mighty Oaks sind am stärksten\, wenn sie gemeinsam auf der Bühne stehen.\nDie Tour 2026 vereint alles\, was Fans an der Band lieben: die Nähe und Ehrlichkeit der Akustikjahre\, kombiniert mit der kraftvollen Energie\, mit der sie auf Festivals wie Rock am Ring\, dem Montreux Jazz Festival\, Lollapalooza oder dem Exit Festival begeistert haben. Die Setlist spannt einen Bogen über mehr als ein Jahrzehnt Musikgeschichte – von frühen Klassikern wie „Brother“ und „Just One Day“ bis hin zu neuen\, noch unveröffentlichten Songs vom kommenden Album\, die live ein ganz eigenes Leben entwickeln. Für Mighty Oaks fühlt sich diese Tour wie ein weiterer Neuanfang an – eine Erinnerung daran\, dass auf der Bühne Freundschaft\, Leidenschaft und Verbundenheit zusammenkommen. Ein Abend\, den man fühlen muss\, nicht nur hören. \nMighty Oaks\nTour 2026 \n16.11.26 Hannover\, Capitol\n17.11.26 Hamburg\, Große Freiheit 36\n18.11.26 Flensburg\, Deutsches Haus\n19.11.26 Bremen\, Modernes\n21.11.26 Binz\, Kurhaussaal\n22.11.26 Münster\, Skaters Palace\n23.11.26 Amsterdam\, Tolhuistin\n24.11.26 Düsseldorf\, Zakk\n25.11.26 Köln\, Carlswerk\n27.11.26 Frankfurt\, Zoom\n28.11.26 Stuttgart\, Im Wizemann\n29.11.26 Heidelberg\, halle02\n30.11.26 Freiburg\, Jazzhaus\n01.12.26 Zürich\, Volkshaus\n03.12.26 Memmingen\, Kaminwerk\n04.12.26 Wien\, Ottakringer Brauerei\n06.12.26 Salzburg\, Rockhouse\n07.12.26 München\, Muffathalle\n08.12.26 Leipzig\, Täubchenthal\n09.12.26 Berlin\, Huxleys\n11.12.26 Prag\, MeetFactory \nTicketmaster Presale: 04.12.2025\, 10:00 Uhr (Online-Presale)\nAllgemeiner Vorverkaufsstart: 05.12.2026\, 10:00 Uhr \n\n			 \n			 \n				\n				\n			 \n				\n				\n				\n				\n				\n				\n				Informationen zur Veranstaltung \n			 \n				\n				\n				Location: Täubchenthal Leipzig\n			 \n				\n				\n				Datum: Dienstag\, 08.12.2026\n			 \n				\n				\n				Einlass: 19 Uhr\n			 \n				\n				\n				Beginn: 20 Uhr\n			 \n				\n				\n				Preis: ab 40\,55 EUR \n			 \n			 \n				\n				\n				\n				\n				\n				\n\n\nInformationen zum Veranstalter \n\n\n\n			 \n				\n				\n				Casius Event & Konzert GmbH\n			 \n				\n				\n				Telefon: +49 341 92611770\n			 \n				\n				\n				E-Mail: info@casius-events.com\n			 \n				\n				\n				Webseite: http://www.casius-events.com/\n			 \n			 \n				\n				\n			 \n				\n				\n				\n				\n				Tickets\n			\n				Facebook\n			\n			 \n				\n				\n			 \n			 \n				 \n				\n			 \n				\n				\n				\n				\n					\n				\n				\n				\n				\n				\n				\n				Es gelten folgende Altersbeschränkungen:\n\nUnter 18 Jahre: Zutritt ohne Begleitperson - nach Vorlage eines Lichtbildausweises (Personalausweis oder Krankenkarte).\nUnter 16 Jahre: Zutritt NUR in Begleitung eines Sorgeberechtigten oder einer – vom Sorgeberechtigten beauftragten – volljährigen Person. Hierfür muss vom Sorgeberechtigten ein Erziehungsauftrag vollständig ausgefüllt und unterzeichnet werden. Auf dem Formular muss zudem auch der vollständige Name und das Geburtsdatum der sorgeberechtigten Person ersichtlich sein. Das Formular findest du hier zum Download. Bitte beachte\, dass sowohl der zu Beaufsichtigende als auch die erziehungsbeauftragte Person einen Lichtbildausweis (Personalausweis oder Krankenkarte) vorlegen müssen. Schülerausweise haben hier keine Gültigkeit. Das ausgefüllte Formular bitte bereits vor dem Einlass herausholen und auf Nachfrage vorzeigen.\n			 \n				Erziehungsbeauftragung
URL:https://casius-events.com/event/mighty-oaks-2026/
LOCATION:Täubchenthal\, Wachsmuthstraße 1\, Leipzig\, Sachsen\, 04229\, Deutschland
CATEGORIES:Konzert
ATTACH;FMTTYPE=image/jpeg:https://casius-events.com/wp-content/uploads/2025/11/mighty-oaks_leipzig_taeubchenthal_2026_casius.jpg
ORGANIZER;CN="Casius%20Event%20%26%20Konzert%20GmbH":MAILTO:info@casius-events.com
END:VEVENT
END:VCALENDAR